BEGIN:VCALENDAR
PRODID:-//AT Content Types//AT Event//EN
VERSION:2.0
METHOD:PUBLISH
BEGIN:VEVENT
DTSTAMP:20260423T182255Z
CREATED:20251008T164704Z
UID:ATEvent-2c449f3ef39c42f08cfc65a23c2a34d3
LAST-MODIFIED:20251008T182338Z
SUMMARY:Together Time
DTSTART:20251021T140000Z
DTEND:20251021T160000Z
DESCRIPTION:Class for children 1-5 and caregiver\, designed to strengt
 hen bonds through play\, music\, movement\, and discovery. Hosted by T
 he Heart Leaf Center\, a non-profit organization focused on high-quali
 ty play therapy for children. 5-session class starts October 21.
LOCATION:The Heart Leaf Center\, 11166 Fairfax Blvd\, Suite 207\, Fairfax\, VA
CONTACT:Devin Caldwell\, devin@heartleafcenter.org
URL:https://www.theheartleafcenter.org
CLASS:PUBLIC
END:VEVENT
END:VCALENDAR
