BEGIN:VCALENDAR
PRODID:-//AT Content Types//AT Event//EN
VERSION:2.0
METHOD:PUBLISH
BEGIN:VEVENT
DTSTAMP:20260423T182301Z
CREATED:20131210T001419Z
UID:ATEvent-f6ff65a6c2c64302bf25f8e10d9cf128
LAST-MODIFIED:20131210T021517Z
SUMMARY:Recess Monkey at Jammin' Java- 2pm show
DTSTART:20140119T190000Z
DTEND:20140119T195000Z
DESCRIPTION:Recess Monkey\, the Seattle band of three elementary schoo
 l teachers who rock\, proudly returns to Jammin' Java for two shows in
 fused with sugary\, high-energy pop goodness sure to make the whole fa
 mily move.
LOCATION:Jammin Java: 227 Maple Avenue East\, Vienna VA 22180
CONTACT:Recess Monkey\, band@recessmonkey.com
URL:https://jamminjava.com/events/recess-monkey-2pm
CLASS:PUBLIC
END:VEVENT
END:VCALENDAR
