BEGIN:VCALENDAR
PRODID:-//AT Content Types//AT Event//EN
VERSION:1.0
BEGIN:VEVENT
DTSTART:20130119T160000Z
DTEND:20130119T165000Z
DCREATED:20131210T001218Z
UID:ATEvent-abf1a59370054864befa682861119a57
SEQUENCE:0
LAST-MODIFIED:20131210T021524Z
SUMMARY:Recess Monkey at Jammin' Java- 11am show
DESCRIPTION:Recess Monkey\, the Seattle band of three elementary schoo
 l teachers who rock\, proudly returns to Jammin' Java for two crazy fu
 n dance shows!!
LOCATION:Jammin Java: 227 Maple Avenue East\, Vienna VA 22180
PRIORITY:3
TRANSP:0
END:VEVENT
END:VCALENDAR
