BEGIN:VCALENDAR
PRODID:-//AT Content Types//AT Event//EN
VERSION:2.0
METHOD:PUBLISH
BEGIN:VEVENT
DTSTAMP:20260421T103449Z
CREATED:20250627T172731Z
UID:ATEvent-4e8e4bf1d9a04b6b8d2c92c7f4d0bf78
LAST-MODIFIED:20250627T190425Z
SUMMARY:Legos & Lemonade
DTSTART:20250801T223000Z
DTEND:20250802T000000Z
DESCRIPTION:Join us for a fun\, colorful evening at Kentlands Mansion 
 as we build vibrant LEGO exotic parrots while sipping on ice-cold lemo
 nade! Let your creativity soar in a relaxed\, elegant atmosphere\, sur
 rounded by good vibes and great company. Take home your very own uniqu
 e LEGO parrot set as a playful reminder of this cheerful\, unforgettab
 le evening!
LOCATION:Kentlands Mansion
CONTACT:Kristy King\, (301) 258-6425\, kentlands@gaithersburgmd.gov
URL:https://anc.apm.activecommunities.com/gaithersburgmd/activity/search/detail/13937?locale=en-US
CLASS:PUBLIC
END:VEVENT
END:VCALENDAR
