BEGIN:VCALENDAR
PRODID:-//AT Content Types//AT Event//EN
VERSION:1.0
BEGIN:VEVENT
DTSTART:20241215T210000Z
DTEND:20241215T220000Z
DCREATED:20241111T120627Z
UID:ATEvent-cd5db818b1cc44cb84ad630ac35f3c9b
SEQUENCE:0
LAST-MODIFIED:20241111T130522Z
SUMMARY:Jane Franklin Dance
DESCRIPTION:Arlington-based Jane Franklin Dance will close 2024 at the
  intimate black box venue Theatre on the Run\, with commissioned works
  by six choreographers.
LOCATION:Theatre on the Run -3700 S Four Mile Run Drive\, Arlington\, VA 22206
PRIORITY:3
TRANSP:0
END:VEVENT
END:VCALENDAR
