BEGIN:VCALENDAR
PRODID:-//AT Content Types//AT Event//EN
VERSION:2.0
METHOD:PUBLISH
BEGIN:VEVENT
DTSTAMP:20260425T025946Z
CREATED:20240523T174712Z
UID:ATEvent-ceff812589f04f81ab1e779a5092a6f6
LAST-MODIFIED:20240523T184403Z
SUMMARY:Interfaith Couples Workshop
DTSTART:20240603T230000Z
DTEND:20240625T003000Z
DESCRIPTION:IFFP’s Interfaith Couples Workshop is back for the summe
 r session\, and it’s the only one of its kind! We offer a truly inte
 rfaith experience that honors both partners' faith traditions equally.
 \n\n✅ Led by a reverend\, a rabbi\, and a priest\n✅ Foster deeper 
 connections and understanding\n✅ Inclusive and supportive environmen
 t\n✅ Couples often leave with lifelong friendships with others who u
 nderstand them\n\nJoin us and other interfaith couples in celebrating 
 and strengthening your unique bond. Sign up today!\n\n📅 Workshop st
 arts June 3rd\, 2024\n📍 Virtual on Zoom
LOCATION:Zoom
CONTACT:Miranda\, (301) 770-6337\, Miranda@iffp.org
URL:https://iffp.org/gather/couples/
CLASS:PUBLIC
END:VEVENT
END:VCALENDAR
