BEGIN:VCALENDAR
PRODID:-//AT Content Types//AT Event//EN
VERSION:1.0
BEGIN:VEVENT
DTSTART:20140111T140000Z
DTEND:20140111T203000Z
DCREATED:20131213T205008Z
UID:ATEvent-e1b24854783e4fe581de5a87bca650a3
SEQUENCE:0
LAST-MODIFIED:20131213T222330Z
SUMMARY:IMAGINE SUMMER: CAMP SAMPLER
DESCRIPTION:camp\, free\, kids\, family\, theatre\, dance\, acting\, d
 igital media\, music
LOCATION:Imagination Stage\, 4908 Auburn Ave\, Bethesda\, MD\, 20814
PRIORITY:3
TRANSP:0
END:VEVENT
END:VCALENDAR
