BEGIN:VCALENDAR
PRODID:-//AT Content Types//AT Event//EN
VERSION:1.0
BEGIN:VEVENT
DTSTART:20240504T140000Z
DTEND:20240504T170000Z
DCREATED:20240211T165859Z
UID:ATEvent-be8265111a6e46039558fbd20ae683d5
SEQUENCE:0
LAST-MODIFIED:20240211T230017Z
SUMMARY:Florafest
DESCRIPTION:Join us for an event all about gardening\, native and inva
 sive plants\, and how you can help keep our park beautiful! \n•	Free
  to participants of all ages and no reservations required. \n•	Stop 
 by the gardens / nature center anytime between 10am-1pm.
LOCATION:Potomac Overlook Regional Park
PRIORITY:3
TRANSP:0
END:VEVENT
END:VCALENDAR
