BEGIN:VCALENDAR
PRODID:-//AT Content Types//AT Event//EN
VERSION:2.0
METHOD:PUBLISH
BEGIN:VEVENT
DTSTAMP:20260421T151840Z
CREATED:20250722T150652Z
UID:ATEvent-eb031c8d5bb145edb3ead05d2529083b
LAST-MODIFIED:20250722T155314Z
SUMMARY:Faux Cake Decorating
DTSTART:20250919T223000Z
DTEND:20250920T003000Z
DESCRIPTION:Get ready for a deliciously fun craft! In this hands-on wo
 rkshop\, you’ll decorate your own box to look like a whimsical cake 
 using colorful frosting-like materials\, sprinkles\, and other playful
  decorations. While it may look good enough to eat\, this sweet creati
 on is designed to be a charming keepsake. No baking required—just br
 ing your creativity and get ready to have some fun! Ages 8+ with paren
 tal guidance.
LOCATION:Kentlands Mansion
CONTACT:Kentlands Mansion\, (301) 258-6425\, kentlands@gaithersburgmd.gov
URL:https://anc.apm.activecommunities.com/gaithersburgmd/activity/search/detail/14153?locale=en-US
CLASS:PUBLIC
END:VEVENT
END:VCALENDAR
