BEGIN:VCALENDAR
PRODID:-//AT Content Types//AT Event//EN
VERSION:1.0
BEGIN:VEVENT
DTSTART:20240106T140000Z
DTEND:20240106T170000Z
DCREATED:20231213T183946Z
UID:ATEvent-d6e0421649554b75ae9b47f9bbc9d65e
SEQUENCE:0
LAST-MODIFIED:20231213T190853Z
SUMMARY:Complimentary Reading Screening
DESCRIPTION:If you are concerned about your child’s reading ability\
 , McLean School is pleased to offer an upcoming complimentary Acadienc
 e Reading Screening.
LOCATION:McLean School: 11810 Falls Road\, Potomac MD 20854
PRIORITY:3
TRANSP:0
END:VEVENT
END:VCALENDAR
