BEGIN:VCALENDAR
PRODID:-//AT Content Types//AT Event//EN
VERSION:1.0
BEGIN:VEVENT
DTSTART:20241020T140000Z
DTEND:20241020T153000Z
DCREATED:20240919T190823Z
UID:ATEvent-2cd94e0e586c4807a0e673010bc6e21b
SEQUENCE:0
LAST-MODIFIED:20240919T220847Z
SUMMARY:Animal Adaptations
DESCRIPTION:We are excited to be offering a museum exploration element
  to our Families Together classes! \n\nClasses will gather in the Smit
 hsonian Early Enrichment Center’s classroom for exploration and then
  go on a museum visit for a closer look at an object.  \n\nFamilies To
 gether’s mission is to create an atmosphere of lifelong learning. Fa
 milies are invited to spend time together exploring a topic inspired b
 y the Smithsonian’s collections. Different activities are available 
 for infants\, toddlers\, preschoolers\, and early elementary aged chil
 dren. Each class will focus on a specific artwork or object and a rela
 ted topic. Play stations will be available for the hour\, and an educa
 tor-led experience\, centered around the object\, will take place insi
 de a museum. Explore\, wonder\, observe\, and learn! \n\nBasic Informa
 tion:\n\nTime: 10:00 am – 11:30 am \nAge Range: 0-8 years \nPrice: $
 35.00 \n1 ticket admits whole family
LOCATION:National Museum of Natural History
PRIORITY:3
TRANSP:0
END:VEVENT
END:VCALENDAR
