BEGIN:VCALENDAR
PRODID:-//AT Content Types//AT Event//EN
VERSION:2.0
METHOD:PUBLISH
BEGIN:VEVENT
DTSTAMP:20260419T161457Z
CREATED:20191201T191359Z
UID:ATEvent-352621e64d3b42cb8422e23c6e24527d
LAST-MODIFIED:20191202T215757Z
SUMMARY:Toddler Trailblazers: Tiny Painters
DTSTART:20200202T151500Z
DTEND:20200202T164500Z
DESCRIPTION:Our workshops offer a variety of hands-on experiences that
  introduce young children to concepts in engaging ways. Each class inc
 ludes playful activities that are intentionally chosen to support your
  child’s development. Our learning extends beyond the classroom and 
 into the museum and community where children and parents are encourage
 d to wonder and explore together as a family.
LOCATION:Smithsonian Early Enrichment Center
CONTACT:Summer Rosswog\, 2026339587\, SEECInfo@si.edu
URL:https://seecstories.com/community-programs/toddler-trailblazers/
CLASS:PUBLIC
END:VEVENT
END:VCALENDAR
